BEGIN:VCALENDAR
VERSION:2.0
PRODID:-//American Horticultural Society - ECPv6.15.20//NONSGML v1.0//EN
CALSCALE:GREGORIAN
METHOD:PUBLISH
X-ORIGINAL-URL:https://ahsgardening.org
X-WR-CALDESC:Events for American Horticultural Society
REFRESH-INTERVAL;VALUE=DURATION:PT1H
X-Robots-Tag:noindex
X-PUBLISHED-TTL:PT1H
BEGIN:VTIMEZONE
TZID:America/New_York
BEGIN:DAYLIGHT
TZOFFSETFROM:-0500
TZOFFSETTO:-0400
TZNAME:EDT
DTSTART:20250309T070000
END:DAYLIGHT
BEGIN:STANDARD
TZOFFSETFROM:-0400
TZOFFSETTO:-0500
TZNAME:EST
DTSTART:20251102T060000
END:STANDARD
BEGIN:DAYLIGHT
TZOFFSETFROM:-0500
TZOFFSETTO:-0400
TZNAME:EDT
DTSTART:20260308T070000
END:DAYLIGHT
BEGIN:STANDARD
TZOFFSETFROM:-0400
TZOFFSETTO:-0500
TZNAME:EST
DTSTART:20261101T060000
END:STANDARD
BEGIN:DAYLIGHT
TZOFFSETFROM:-0500
TZOFFSETTO:-0400
TZNAME:EDT
DTSTART:20270314T070000
END:DAYLIGHT
BEGIN:STANDARD
TZOFFSETFROM:-0400
TZOFFSETTO:-0500
TZNAME:EST
DTSTART:20271107T060000
END:STANDARD
END:VTIMEZONE
BEGIN:VEVENT
DTSTART;TZID=America/New_York:20260425T090000
DTEND;TZID=America/New_York:20260425T160000
DTSTAMP:20260421T092030
CREATED:20260413T210140Z
LAST-MODIFIED:20260413T210140Z
UID:10000152-1777107600-1777132800@ahsgardening.org
SUMMARY:FONA Garden Fair & Plant Sale
DESCRIPTION:Celebrate spring at FONA’s Garden Fair & Plant Sale on Saturday\, April 25th! Shop from thousands of plants\, get expert gardening advice\, browse from 25+ local vendors\, and enjoy free family activities. Whether you’re looking for herbs for your apartment balcony or shade-loving perennials for your yard\, the Plant Sale tent has great options at great prices. \nThe Garden Fair & Plant Sale is hosted by Friends of the National Arboretum and raises funds to support FONA’s work celebrating the science\, beauty\, and community impact of the National Arboretum.
URL:https://ahsgardening.org/event/fona-garden-fair-plant-sale/
LOCATION:U.S. National Arboretum\, 3501 New York Avenue NE\, Washington\, DC\, 20002\, United States
CATEGORIES:Family Event,Free,Sale,Social/Cultural Event
ATTACH;FMTTYPE=image/jpeg:https://ahsgardening.org/wp-content/uploads/2026/04/2025_Garden-Fair-Plant-Sale-75_4x3-scaled-e1776114042729.jpg
END:VEVENT
BEGIN:VEVENT
DTSTART;TZID=America/New_York:20260425T130000
DTEND;TZID=America/New_York:20260425T143000
DTSTAMP:20260421T092030
CREATED:20260414T150946Z
LAST-MODIFIED:20260414T150946Z
UID:10000165-1777122000-1777127400@ahsgardening.org
SUMMARY:Frogs\, Eggs & Muddy Boots! A Vernal Pool Adventure Walk Co-Sponsored by the Lake Sunapee Protective Association (LSPA)
DESCRIPTION:Can you hear the chorus? Spring is here\, and the woods are buzzing with life! Frogs are calling\, salamanders are on the move\, and vernal pools are bursting with springtime magic. Grab your mucky boots\, bring the whole family\, and join us for a fun and fascinating exploration of a New Hampshire vernal pool. We’ll search for jelly-like egg masses\, listen for frog songs\, and maybe even spot some of these amazing amphibians up close. Perfect for curious kids and grown-ups alike—this hands-on adventure is a wonderful way to welcome spring together. Lake Sunapee Protective Association staff will lead this adventure. \nPlease wear appropriate clothing and footwear for the weather and wet walking. Meets on the Veranda of the Main House. Members: free\, Non-members: included with regular admission. Please register in advance through the LSPA website.
URL:https://ahsgardening.org/event/frogs-eggs-muddy-boots-a-vernal-pool-adventure-walk-co-sponsored-by-the-lake-sunapee-protective-association-lspa/
LOCATION:John Hay Estate at The Fells\, 456 Route 103A\, Newbury\, New Hampshire\, 03216\, United States
CATEGORIES:Family Event
END:VEVENT
BEGIN:VEVENT
DTSTART;TZID=America/New_York:20260502T100000
DTEND;TZID=America/New_York:20260502T130000
DTSTAMP:20260421T092030
CREATED:20260406T200811Z
LAST-MODIFIED:20260406T200811Z
UID:10000149-1777716000-1777726800@ahsgardening.org
SUMMARY:Pottery Floral Garden Stakes Workshop
DESCRIPTION:Make your own garden flowers that will never fade! In this two session course\, you will learn to hand build beautiful floral garden stakes from a slab of clay. An instructor from the Elkhart Art League will teach you the basics of slab hand building—rolling out your slab of clay\, applying texture to your slab\, using templates to create your forms\, decorating your flowers to create your own style\, and the final step of glazing your pieces. \nThis course takes place on two Sundays\, May 2nd and May 16th. When you sign up\, you’re in for both sessions! Students will take home 2-3 finished floral stakes a week after the second session. All supplies are included in the workshop price\, please feel free to bring an apron from home if you’d like. \nThe classes will take place under our covered Outdoor Classroom. Please plan to dress for the weather. If inclement weather arises\, classes may be moved into our indoor Cottage Classroom. This class is intended for ages 16+. All minors must be accompanied by a registered adult. \nRegistration is required; space is limited! This class is non-refundable. If you aren’t able to make it and would like to share your registration with a friend\, please contact Wellfield at (574) 266-2006 to let us know! \nThank you for supporting Wellfield\, your purchase furthers our mission!
URL:https://ahsgardening.org/event/pottery-floral-garden-stakes-workshop/
LOCATION:Wellfield Botanic Gardens\, 1011 North Main Street\, Elkhart\, Indiana\, 46514\, United States
CATEGORIES:Family Event,Social/Cultural Event,Workshop
ATTACH;FMTTYPE=image/png:https://ahsgardening.org/wp-content/uploads/2026/04/UNIFI-SLIDE-1-e1775505945142.png
END:VEVENT
BEGIN:VEVENT
DTSTART;TZID=America/New_York:20260516T100000
DTEND;TZID=America/New_York:20260516T160000
DTSTAMP:20260421T092030
CREATED:20260402T190138Z
LAST-MODIFIED:20260402T190138Z
UID:10000144-1778925600-1778947200@ahsgardening.org
SUMMARY:Clarkia Flower Festival
DESCRIPTION:Get ready for the most vibrant event of the year: the Clarkia Flower Festival! Mark your calendars and invite your friend to join us for a fun-filled day celebrating nature and community. \nJoin us on Saturday\, May 16 from 10 am to 4 pm for an unforgettable celebration featuring exciting nature activities\, a lively beer garden\, fantastic live music\, amazing community organizations\, and so much more! Admission to this event is free and open to the public\, no RSVP required. You won’t want to miss out on this blooming good time!
URL:https://ahsgardening.org/event/clarkia-flower-festival/
LOCATION:UCLA Mildred E. Mathias Botanical Garden\, 707 Tiverton Drive\, Los Angeles\, California\, 90095\, United States
CATEGORIES:Family Event,Free,Other
ATTACH;FMTTYPE=image/png:https://ahsgardening.org/wp-content/uploads/2026/04/Clarkia-Flower-Festival-Flyer-Le-Conte-Address-scaled-e1775156488964.png
END:VEVENT
BEGIN:VEVENT
DTSTART;VALUE=DATE:20260612
DTEND;VALUE=DATE:20260615
DTSTAMP:20260421T092030
CREATED:20260413T204947Z
LAST-MODIFIED:20260413T204947Z
UID:10000157-1781222400-1781481599@ahsgardening.org
SUMMARY:Inviting Vines 2026
DESCRIPTION:Inviting Vines 2026 may be the best ever! The Friends of the Rogerson Clematis Collection will be making the most of an amazing opportunity to share the expertise and friendship of our longtime colleagues from Japan\, Mikiyoshi and Tomoko Chikuma\, and garden author and naturalist C. Colston Burrell\, with clematis lovers throughout the greater Portland area.\nJoin us for a weekend full of presentations\, workshops\, garden tours\, plant sales and more! Tickets go on sale on The Rogerson Clematis Collection website May 1st.
URL:https://ahsgardening.org/event/inviting-vines-2026/
LOCATION:Rogerson Clematis Garden (OR)\, 125 Rosemont Road\, West Linn\, Oregon\, 97068\, United States
CATEGORIES:Class,Family Event,Lecture/Talk,Sale,Social/Cultural Event,Tour,Workshop
ATTACH;FMTTYPE=image/png:https://ahsgardening.org/wp-content/uploads/2026/04/IMG_1297-e1776113355553.png
END:VEVENT
BEGIN:VEVENT
DTSTART;TZID=America/New_York:20260927T130000
DTEND;TZID=America/New_York:20260927T160000
DTSTAMP:20260421T092030
CREATED:20260414T150902Z
LAST-MODIFIED:20260414T150902Z
UID:10000164-1790514000-1790524800@ahsgardening.org
SUMMARY:Fungi Foray
DESCRIPTION:Join Jess Whitaker\, President of the Sunapee Region Mycology Club\, for an informative presentation about mushrooms\, followed by an identification walk on our woodland and lakeshore hiking trails. This annual event is intended for the beginner as well as the more experienced. Meets at the Pavilion. Members: $10\, Non-members: $15. Advance registration is requested but walk-ins are welcome.
URL:https://ahsgardening.org/event/fungi-foray/
LOCATION:John Hay Estate at The Fells\, 456 Route 103A\, Newbury\, New Hampshire\, 03216\, United States
CATEGORIES:Family Event
END:VEVENT
END:VCALENDAR