BEGIN:VCALENDAR
VERSION:2.0
PRODID:-//American Horticultural Society - ECPv6.15.20//NONSGML v1.0//EN
CALSCALE:GREGORIAN
METHOD:PUBLISH
X-WR-CALNAME:American Horticultural Society
X-ORIGINAL-URL:https://ahsgardening.org
X-WR-CALDESC:Events for American Horticultural Society
REFRESH-INTERVAL;VALUE=DURATION:PT1H
X-Robots-Tag:noindex
X-PUBLISHED-TTL:PT1H
BEGIN:VTIMEZONE
TZID:America/North_Dakota/Center
BEGIN:DAYLIGHT
TZOFFSETFROM:-0600
TZOFFSETTO:-0500
TZNAME:CDT
DTSTART:20250309T080000
END:DAYLIGHT
BEGIN:STANDARD
TZOFFSETFROM:-0500
TZOFFSETTO:-0600
TZNAME:CST
DTSTART:20251102T070000
END:STANDARD
BEGIN:DAYLIGHT
TZOFFSETFROM:-0600
TZOFFSETTO:-0500
TZNAME:CDT
DTSTART:20260308T080000
END:DAYLIGHT
BEGIN:STANDARD
TZOFFSETFROM:-0500
TZOFFSETTO:-0600
TZNAME:CST
DTSTART:20261101T070000
END:STANDARD
BEGIN:DAYLIGHT
TZOFFSETFROM:-0600
TZOFFSETTO:-0500
TZNAME:CDT
DTSTART:20270314T080000
END:DAYLIGHT
BEGIN:STANDARD
TZOFFSETFROM:-0500
TZOFFSETTO:-0600
TZNAME:CST
DTSTART:20271107T070000
END:STANDARD
END:VTIMEZONE
BEGIN:VTIMEZONE
TZID:America/New_York
BEGIN:DAYLIGHT
TZOFFSETFROM:-0500
TZOFFSETTO:-0400
TZNAME:EDT
DTSTART:20250309T070000
END:DAYLIGHT
BEGIN:STANDARD
TZOFFSETFROM:-0400
TZOFFSETTO:-0500
TZNAME:EST
DTSTART:20251102T060000
END:STANDARD
BEGIN:DAYLIGHT
TZOFFSETFROM:-0500
TZOFFSETTO:-0400
TZNAME:EDT
DTSTART:20260308T070000
END:DAYLIGHT
BEGIN:STANDARD
TZOFFSETFROM:-0400
TZOFFSETTO:-0500
TZNAME:EST
DTSTART:20261101T060000
END:STANDARD
BEGIN:DAYLIGHT
TZOFFSETFROM:-0500
TZOFFSETTO:-0400
TZNAME:EDT
DTSTART:20270314T070000
END:DAYLIGHT
BEGIN:STANDARD
TZOFFSETFROM:-0400
TZOFFSETTO:-0500
TZNAME:EST
DTSTART:20271107T060000
END:STANDARD
END:VTIMEZONE
BEGIN:VTIMEZONE
TZID:America/Los_Angeles
BEGIN:DAYLIGHT
TZOFFSETFROM:-0800
TZOFFSETTO:-0700
TZNAME:PDT
DTSTART:20250309T100000
END:DAYLIGHT
BEGIN:STANDARD
TZOFFSETFROM:-0700
TZOFFSETTO:-0800
TZNAME:PST
DTSTART:20251102T090000
END:STANDARD
BEGIN:DAYLIGHT
TZOFFSETFROM:-0800
TZOFFSETTO:-0700
TZNAME:PDT
DTSTART:20260308T100000
END:DAYLIGHT
BEGIN:STANDARD
TZOFFSETFROM:-0700
TZOFFSETTO:-0800
TZNAME:PST
DTSTART:20261101T090000
END:STANDARD
BEGIN:DAYLIGHT
TZOFFSETFROM:-0800
TZOFFSETTO:-0700
TZNAME:PDT
DTSTART:20270314T100000
END:DAYLIGHT
BEGIN:STANDARD
TZOFFSETFROM:-0700
TZOFFSETTO:-0800
TZNAME:PST
DTSTART:20271107T090000
END:STANDARD
END:VTIMEZONE
BEGIN:VEVENT
DTSTART;TZID=America/North_Dakota/Center:20260424T100000
DTEND;TZID=America/North_Dakota/Center:20260424T120000
DTSTAMP:20260422T075035
CREATED:20260318T195502Z
LAST-MODIFIED:20260318T195502Z
UID:10000126-1777024800-1777032000@ahsgardening.org
SUMMARY:AHS Live: Behind-the-Scenes Tour: Headwaters at the Comal
DESCRIPTION:The Headwaters at the Comal sits at a remarkable moment in its transformation\, and visitors on this tour will experience all three chapters of its story firsthand. The journey begins in the recently completed past: a former industrial hardscape now reimagined as a Low Impact Development parking lot and entrance garden\, where native plants\, rain gardens\, and swales intercept and treat stormwater before it ever reaches the Comal River watershed. The tour then moves into the living present. The approximately quarter mile trail walk winds through established landscape born from a major 2016-2017 restoration that diverted over 12\,000 pounds of pollutants from the Comal’s headwater spring run and has since matured into a thriving corridor of biodiversity offering rare refuge for native species in a region where natural habitat is rapidly disappearing. Finally\, the group will witness the future taking shape in real time: the ongoing removal of remaining asphalt and impervious cover\, and the conversion of existing structures into interpretive nature centers for the community. This is restoration not as a finished product\, but as a living process and this tour offers a front-row seat. \n$50 AHS members/$60 non-members\nAll tours are listed in location’s timezone\nRegister Here
URL:https://ahsgardening.org/event/ahs-live-behind-the-scenes-tour-headwaters-at-the-comal/
LOCATION:American Horticultural Society – AHS Live
CATEGORIES:Tour
ATTACH;FMTTYPE=image/png:https://ahsgardening.org/wp-content/uploads/2026/02/2021.09.02Pavilion-Path-Before-After-e1773863691222.png
END:VEVENT
BEGIN:VEVENT
DTSTART;TZID=America/New_York:20260507T140000
DTEND;TZID=America/New_York:20260507T150000
DTSTAMP:20260422T075035
CREATED:20260318T193545Z
LAST-MODIFIED:20260318T193545Z
UID:10000121-1778162400-1778166000@ahsgardening.org
SUMMARY:AHS Live: Black in the Garden
DESCRIPTION:Join Colah B. Tawkin\, creator of podcast Black in the Garden\, for a conversation reflecting on the podcast’s highlights and impact\, the future of horticultural communication\, insights on land stewardship and farming heritage\, and all things Black and botanical. \nColah B. Tawkin\, creator of Black in the Garden\, is a ‘plantrepreneur’\, podcaster\, and the guide to all things Black and botanical. Since 2019\, she has produced more than 150 episodes about farming heritage\, food sovereignty\, cooperative economics\, and land stewardship. Black in the Garden has been distributed by the NPR podcast network in production at WABE Studios in Atlanta\, GA. The show has reached over 100 countries\, serving a global audience with top ratings and multiple-year features on Apple Podcasts Black History Month Collection. Colah has collaborated with the Smithsonian Gardens\, the National Museum of African American History and Culture\, and Atlanta Botanical Garden. She has given TEDx talks\, been honored as a Cultivator of Celebration by Cornell Botanic Gardens\, and been commissioned by The Atlanta History Center to curate The Botanical Black History podcast series. \nVirtual\n$15 AHS members/$20 non-members\nAll virtual programs are in ET\nRegister Here
URL:https://ahsgardening.org/event/ahs-live-black-in-the-garden/
LOCATION:American Horticultural Society – AHS Live
CATEGORIES:Lecture/Talk
ATTACH;FMTTYPE=image/jpeg:https://ahsgardening.org/wp-content/uploads/2026/03/P1511779_sm-768x576-1-e1773862537684.jpg
END:VEVENT
BEGIN:VEVENT
DTSTART;TZID=America/New_York:20260508T140000
DTEND;TZID=America/New_York:20260508T150000
DTSTAMP:20260422T075035
CREATED:20260318T194233Z
LAST-MODIFIED:20260318T194301Z
UID:10000123-1778248800-1778252400@ahsgardening.org
SUMMARY:AHS Live: The Modern Professional Planting Designer
DESCRIPTION:There are many different approaches we can take to filling our gardens\, landscapes and lives with plants. In this talk based on his new book\, The Modern Professional Planting Designer\, Andrew Fisher Tomlin will reveal some of the tools that will help you achieve professional-level solutions in planting. He will explore the difference between ornamental\, naturalistic and nature-based planting design and discuss a guiding framework to support the development of your own planting design choices. With examples of real-life projects in Europe and the USA\, he will finish with a preview of the 2026 RHS Chelsea Flower Show. \nAndrew Fisher Tomlin is widely acknowledged as leading the development of a distinct professional career path in planting design through his own work and as a director of the internationally renowned London College of Garden Design in London and Melbourne where he has mentored some of the most exciting new designers coming out of the UK and Australia over the past 20 years. Andrew is a Chartered Horticulturist and a Fellow of both the Chartered Institute of Horticulture and the Society of Garden and Landscape Designers in the UK and has received design awards in the UK\, USA\, Australia and New Zealand. He also teaches students of the Royal Botanic Gardens\, Kew and has given papers at institutions worldwide such as the Smithsonian in Washington\, D.C. and at the Victoria & Albert Museum in London. \nVirtual\n$15 AHS members/$20 non-members\nAll virtual programs are in ET\nRegister Here
URL:https://ahsgardening.org/event/ahs-live-the-modern-professional-planting-designer/
LOCATION:American Horticultural Society – AHS Live
CATEGORIES:Lecture/Talk
ATTACH;FMTTYPE=image/jpeg:https://ahsgardening.org/wp-content/uploads/2026/03/aft_1.1-7226-1-768x512-1.jpg
END:VEVENT
BEGIN:VEVENT
DTSTART;TZID=America/New_York:20260514T140000
DTEND;TZID=America/New_York:20260514T150000
DTSTAMP:20260422T075035
CREATED:20260318T191643Z
LAST-MODIFIED:20260318T191643Z
UID:10000118-1778767200-1778770800@ahsgardening.org
SUMMARY:AHS LIVE: Shrublands of the American West
DESCRIPTION:Shrublands exist all around us\, thriving in almost any environmental condition\, from the desiccating sunshine of the endless sagebrush steppe to the deep\, private shade of moist forests. These diverse and inspiring ecosystems serve as perfect models for our gardens. Beyond their inherent beauty\, they provide nurturing habitats\, demonstrate resilience in the face of a changing climate\, and offer a challenge to conventional garden-making through their intense aesthetics and obscured intentions. Join coauthor Michael Guidi of Shrouded in Light: Naturalistic Planting Inspired by Wild Shrublands to explore a glorious spectrum of wild shrublands and discover the philosophies and design strategies for bringing these magnificent plant communities into your home garden. \nMichael Guidi is the Manager of Horticulture Research Programs at Denver Botanic Gardens\, where he integrates scientific research\, ecological theory\, and practical horticulture to promote resilient plant choices and landscape strategies. His work spans a wide range of topics\, including plant breeding\, plant tissue culture\, direct-seeded vegetation\, and green infrastructure. An advocate for dynamic\, self-sustaining gardens\, he demonstrates how thoughtful planting design can enhance biodiversity\, bolster ecological resilience\, and improve human well-being. In 2024\, he coauthored Shrouded in Light: Naturalistic Plantings Inspired by Wild Shrublands\, a book that explores the biology\, philosophical foundations\, and landscape potential of shrubland habitats worldwide. Michael holds a master’s degree in Ecology from Colorado State University. \nVirtual\n$15 AHS members/$20 non-members\nAll virtual programs are in ET\nRegister Here
URL:https://ahsgardening.org/event/ahs-live-shrublands-of-the-american-west/
LOCATION:American Horticultural Society – AHS Live
CATEGORIES:Lecture/Talk
ATTACH;FMTTYPE=image/jpeg:https://ahsgardening.org/wp-content/uploads/2026/02/Michael_Guidi-3-scaled-e1773861395138.jpg
END:VEVENT
BEGIN:VEVENT
DTSTART;TZID=America/New_York:20260515T100000
DTEND;TZID=America/New_York:20260515T113000
DTSTAMP:20260422T075035
CREATED:20260318T195728Z
LAST-MODIFIED:20260318T195728Z
UID:10000127-1778839200-1778844600@ahsgardening.org
SUMMARY:AHS Live: Behind-the-Scenes Tour: High Line
DESCRIPTION:The High Line gardens are famous for their lush and emotionally evocative four-season design and the High Line continues to evolve\, responding to a changing city and a maturing tree canopy requiring careful curation from a talented team of horticulturists. Join Richard Hayden\, Senior Director of Horticulture\, for a tour and deep dive into the stewardship techniques employed\, the iconic plants and the ecological function of this reclaimed railway garden. We’ll also tour two new garden sections designed by Piet Oudolf\, whose original design and long term collaboration with the High Line has helped to keep the garden at the forefront of public gardens\, prompting the New York Times to label it ‘One of the 25 Must See Gardens of the World.’ \nRichard Hayden is a passionate horticulturist dedicated to an ecological and naturalistic approach to garden care and design. Since 2022 he has served as the Senior Director of Horticulture at the High Line where he leads a team of horticulturists in the stewardship and public programming of an historic\, elevated rail line on the west side of Manhattan that was reclaimed to become a biodiverse public garden with naturalistic plantings designed by Piet Oudolf. \nHayden previously served as Assistant Deputy Director at the Natural History Museum of Los Angeles County (NHMLA)\, where he was the primary project manager for the reimagining of the La Brea Tar Pits Museum and eleven acre park site. He also oversaw the Nature Gardens at NHMLA\, a wildlife habitat garden\, where he collaborated with scientists\, educators and interpreters to promote the garden as a leading site for the study of urban nature. \n$40 AHS members/$50 non-members\nAll tours are listed in location’s timezone\nRegister Here
URL:https://ahsgardening.org/event/ahs-live-behind-the-scenes-tour-high-line/
LOCATION:American Horticultural Society – AHS Live
CATEGORIES:Tour
ATTACH;FMTTYPE=image/jpeg:https://ahsgardening.org/wp-content/uploads/2026/02/0011_FHL_Portraits-scaled-e1773863839185.jpg
END:VEVENT
BEGIN:VEVENT
DTSTART;TZID=America/New_York:20260521T190000
DTEND;TZID=America/New_York:20260521T200000
DTSTAMP:20260422T075035
CREATED:20260318T194504Z
LAST-MODIFIED:20260318T194547Z
UID:10000124-1779390000-1779393600@ahsgardening.org
SUMMARY:AHS Live: Naturalistic Gardening in the American South
DESCRIPTION:While the American South houses incredible plant diversity\, its gardens rarely reflect that richness. Join Dr. Jared Barnes as he shares his approach to naturalistic plantings that are both ecologically grounded and beautiful. In this spirited presentation\, we’ll cover ecological principles and planting strategies for crafting sustainable gardens that are suited to the Southern landscape and some of his favorite heat tolerant plants. \nCultivating plants and cultivating minds\, Dr. Jared Barnes is an award-winning associate professor of horticulture at Stephen F. Austin State University where he stewards the Plantery\, SFASU’s student botanic garden. He is the author of The New York Times–featured newsletter plant•ed and host of The Plantastic Podcast. His passion has been recognized by peers in numerous interviews\, including NY Times\, Horticulture\, People\, Organic Gardening\, Greenhouse Grower\, AmericanHort Connect\, Ken Druse’s Real Dirt\, and Nursery Management\, and his articles have appeared in Horticulture\, The American Gardener\, and Fine Gardening. Dr. Barnes holds his Ph.D. in horticultural science from North Carolina State and is the recipient of several awards\, including awards from the Perennial Plant Association. His family garden was featured in the 2025 book Gardens of Texas by Pam Penick. \nVirtual\n$15 AHS members/$20 non-members\nAll virtual programs are in ET\nRegister Here
URL:https://ahsgardening.org/event/ahs-live-naturalistic-gardening-in-the-american-south/
LOCATION:American Horticultural Society – AHS Live
CATEGORIES:Lecture/Talk
ATTACH;FMTTYPE=image/jpeg:https://ahsgardening.org/wp-content/uploads/2026/02/jared-head-shot-2-1-e1773863143663.jpg
END:VEVENT
BEGIN:VEVENT
DTSTART;TZID=America/New_York:20260528T140000
DTEND;TZID=America/New_York:20260528T150000
DTSTAMP:20260422T075035
CREATED:20260318T191948Z
LAST-MODIFIED:20260318T191948Z
UID:10000119-1779976800-1779980400@ahsgardening.org
SUMMARY:AHS Live: Eschewing Perfection for Natural Beauty
DESCRIPTION:Through the nature-embracing lens of Perfect Earth Project\, renowned garden writer and editor Melissa Ozawa will reflect on how her career has shifted her perspective on the purposes of landscape cultivation. Part presentation and part conversation\, this contemplative program will serve as a catalyst to reconsider what and why beauty can mean in the garden. \nMelissa Ozawa is the director of content & communications for Perfect Earth Project. Her love for gardens and nature began when she was a small child in Tokyo\, playing among the cherry blossoms in Aoyama cemetery and irises at the Nezu museum garden. She has been writing and editing stories about gardening and sustainability for more than two decades and was recently the features and garden editor at Martha Stewart Living\, where she traveled around the country to create and write stories for more than 10 years. She has also held editorial roles at House & Garden and Country Living magazines\, and worked at the Garden Conservancy\, planning garden tours and national lecture series. She got her start at the Academy of American Poets\, where she was editor of the journal American Poet and helped to promote a slate of national literary programs. She lives in New York City and works in her garden in New York’s Columbia County every chance she can. \nVirtual\n$15 AHS members/$20 non-members\nAll virtual programs are in ET\nRegister Here
URL:https://ahsgardening.org/event/ahs-live-eschewing-perfection-for-natural-beauty/
LOCATION:American Horticultural Society – AHS Live
CATEGORIES:Lecture/Talk
ATTACH;FMTTYPE=image/jpeg:https://ahsgardening.org/wp-content/uploads/2026/02/Ozawa-credit-to-Joanna-Garcia.jpg
END:VEVENT
BEGIN:VEVENT
DTSTART;TZID=America/New_York:20260529T140000
DTEND;TZID=America/New_York:20260529T150000
DTSTAMP:20260422T075035
CREATED:20260318T193752Z
LAST-MODIFIED:20260318T193752Z
UID:10000122-1780063200-1780066800@ahsgardening.org
SUMMARY:AHS Live: Flora Culture
DESCRIPTION:Our love of flowers and desire to be close to them has\, across cultures and for millennia\, created both landscapes and livelihoods. In this talk\, Flora Culture author Christin Geall will take us on a journey across continents to explore the origins of some familiar garden favourites. By weaving her narrative between art\, ecology\, science\, and history\, Geall will get you thinking about your relationships to flowers\, fashion\, gardens and design. \nChristin Geall is a writer\, designer\, and photographer whose work focuses on the intersections of nature\, culture\, and horticulture. She is the author of Flora Culture: How Flowers Shape Our World (2026) and Cultivated: The Elements of Floral Style (2020). \nVirtual\n$15 AHS members/$20 non-members\nAll virtual programs are in ET\nRegister Here
URL:https://ahsgardening.org/event/ahs-live-flora-culture/
LOCATION:American Horticultural Society – AHS Live
CATEGORIES:Lecture/Talk
ATTACH;FMTTYPE=image/jpeg:https://ahsgardening.org/wp-content/uploads/2026/02/Cultivated_author_A-copy-2-scaled-e1773862665758.jpg
END:VEVENT
BEGIN:VEVENT
DTSTART;TZID=America/Los_Angeles:20260602T100000
DTEND;TZID=America/Los_Angeles:20260602T120000
DTSTAMP:20260422T075035
CREATED:20260318T200040Z
LAST-MODIFIED:20260318T200040Z
UID:10000128-1780394400-1780401600@ahsgardening.org
SUMMARY:AHS Live: Private Garden Tour: Windcliff
DESCRIPTION:On six-and-a-half acres overlooking the Puget Sound\, Windcliff is Daniel Hinkley’s renowned personal garden that has flourished for over twenty years. Showcasing specimens from his plant expeditions around the world\, the garden features a woodland\, meadow\, arboretum\, pond\, bog\, terraces\, and vegetable garden\, surrounded by spectacular water views. Hinkley will lead the tour\, finishing with time for attendees to explore the on-site nursery and purchase a bit of Windcliff to take home. \nDaniel Hinkley\, founder of Windcliff\, is a teacher\, writer\, lecturer\, consultant\, nurseryman\, naturalist\, and gardener. Above all\, he is committed to solid and sustainable horticultural practices\, above average garden plants\, landscapes of distinction and raising the collective awareness of the diversity of plant life on Earth as well as the magic and mysteries of our natural world. Hinkley is the recipient of numerous awards\, including the AHS Liberty Hyde Bailey Award and the Scott Arboretum Medal. He holds an MS in urban horticulture from University of Washington and a BS in urban horticulture from Michigan State University. \n$40 AHS members/$50 non-members\nAll tours are listed in location’s timezone\nRegister Here
URL:https://ahsgardening.org/event/ahs-live-private-garden-tour-windcliff/
LOCATION:American Horticultural Society – AHS Live
CATEGORIES:Tour
ATTACH;FMTTYPE=image/png:https://ahsgardening.org/wp-content/uploads/2026/03/Screenshot-2026-03-13-at-4.25.09-PM.png
END:VEVENT
BEGIN:VEVENT
DTSTART;TZID=America/New_York:20260612T140000
DTEND;TZID=America/New_York:20260612T150000
DTSTAMP:20260422T075035
CREATED:20260318T194808Z
LAST-MODIFIED:20260318T194901Z
UID:10000125-1781272800-1781276400@ahsgardening.org
SUMMARY:AHS Live: Common Garden Mistakes
DESCRIPTION:Whether beginner gardeners or seasoned gardeners\, we all make mistakes! This eye-opening presentation features frequent misunderstandings or errors made by well-intentioned gardeners. Topics include plant care\, pruning flowering shrubs\, smart plant selection (including avoiding enticing plants that will become nightmares!)\, garden myths\, and more. \nKerry Ann Mendez is an award-winning garden educator\, author\, design consultant and proprietor of Perennially Yours based in southern Maine. As an exceptionally popular educator and communicator\, she has presented hundreds of lectures to thousands of gardeners in 23 states. In 2014 she received the Gold Medal award from the Massachusetts Horticultural Society for “Exceptional teaching and writing that increases public enjoyment and appreciation of horticulture.” Kerry Ann has written four gardening books\, the most recent being The Budget Wise Gardener and The Right-Size Flower Garden. In 2016 Kerry Ann started producing international gardening Webinars that have been enjoyed by thousands. \nVirtual\n$15 AHS members/$20 non-members\nAll virtual programs are in ET\nRegister Here
URL:https://ahsgardening.org/event/ahs-live-common-garden-mistakes/
LOCATION:American Horticultural Society – AHS Live
CATEGORIES:Lecture/Talk
ATTACH;FMTTYPE=image/jpeg:https://ahsgardening.org/wp-content/uploads/2026/02/Kerry-Ann-Mendez-Headshot-e1773863281429.jpg
END:VEVENT
END:VCALENDAR